Workbook

Sheet Animal AMS Framework
D1: Lloyd/page | E1: Granick | F1: Currie | G1: AVMA | I1: Key
A2: Area | B2: Essential/desirable | C2: Essential | I2: present in all compared | J2: present in some of those compared | K2: not present in any of those compared
A3: Leadership | B3: Essential | C3: The leadership team, the person in charge or executive signs and supports a documented AMS or animal health plan/policy statement. | D3: 1 | E3: 1 | F3: 1 | G3: 1
B4: Desirable | C4: The leadership team, person in charge or executive ensures that AMS activities are integrated into quality improvement efforts and aim to achieve high standards of animal health and welfare outcomes. | D4: 1 | G4: 1
B5: Desirable | C5: The AMS program has senior leadership designated as point(s) of contact or champion(s) to ensure adequate resources and support for achieving program outcomes. | D5: 1 | E5: 1
A6: Implementation | B6: Essential | C6: A group or designated individual is responsible for implementing and overseeing the AMS plan, demonstrating ownership and influencing outcomes. | D6: 1 | E6: 1 | F6: 1 | G6: 1
B7: Desirable | C7: A dedicated individual or AMS team regularly assesses the effectiveness of the AMS program, receiving support from all levels (e.g., senior management, veterinarians, staff working in practices, on farms, and carers for animals and wildlife). | E7: 1
B8: Desirable | C8: The dedicated individual or AMS team meets regularly (e.g., every six months) with the executive/leadership team to report on the AMS plan and discuss stewardship outcomes, activities, and resource needs. | E8: 1
A9: Training | B9: Essential | C9: Individuals who administer and/or oversee the use of antimicrobial products within the organisation engage in learning activities relevant to AMS and enhance the knowledge of others. | E9: 1 | F9: 1 | G9: 1
B10: Desirable | C10: Training on the responsible use of antimicrobials is conducted at least annually for the AMS team and animal health staff and used to enhance the knowledge of others through codes of practice, best practice manuals, and/or training. | D10: 1 | E10: 1 | F10: 1 | G10: 1
B11: Desirable | C11: Documented records are maintained of the education, training, skills, and experience of personnel who administer and/or oversee the use of antimicrobial products, detailing competencies, criteria, and evaluations of the effectiveness of the training.
A12: Usage | B12: Essential | C12: The organisation measures the quantity of antimicrobials prescribed, dispensed, and purchased at the farm/clinic/facility level. | D12: 1 | E12: 1 | G12: 1
B13: Desirable | C13: The organisation sets specific targets to minimise the unnecessary use of highly important antimicrobials, prioritising alternatives and exhausting these options first. | D13: 1 | E13: 1 | G13: 1
B14: Desirable | C14: Antimicrobial use data is used to identify areas for improvement in the AMS program and drives action to enhance the appropriateness of antimicrobial use. | E14: 1 | G14: 1
A15: Prescribing guidelines | B15: Essential | C15: National prescribing guidelines/decision trees and veterinary expertise are used to guide antibiotic selection, dosage and route of administration. | D15: 1 | E15: 1 | F15: 1 | G15: 1
B16: Desirable | C16: Usage of and compliance with guidelines are documented.
B17: Desirable | C17: An audited process is in place to evaluate the proportion of prescribing that aligns with the guidelines, and any variations documented along with the reasons. | D17: 1
A18: Administering antimicrobials | B18: Essential | C18: Antibiotics are not administered to animals unless prescribed by a registered veterinarian. | E18: 1 | F18: 1 | G18: 1
B19: Desirable | C19: improvements in appropriateness of antimicrobial usage are made based on documented results of the assessment. | D19: 1 | E19: 1 | G19: 1
B20: Desirable | C20: A system is in place to ensure that antimicrobials given to animals are administered safely and appropriately, minimising the risk of chemical residues or physical hazards (e.g. antibiotic packaging, needles) entering the food supply chain or environment and reducing the potential for antimicrobial resistance development. | D20: 1
A21: Prescribing process | B21: Essential | C21: Veterinarians establish bona fide veterinarian-client-patient relationships and determine animal health needs before supplying or using antimicrobials, as required by Australian government legislation. | F21: 1
B22: Desirable | C22: Regular checks are conducted with the feed mill, farmer, carer or client to ensure compliance with the antimicrobial prescription. | D22: 1 | G22: 1
B23: Desirable | C23: Verification of compliance with Australian legislation and policies regarding the prescribing process is conducted through accredited third-party or verified self-assessment. | D23: 1 | F23: 1
A24: Highly important antimicrobials | B24: Essential | C24: Highly important antibiotics used in human medicine are not used for growth promotion, feed efficiency, weight gain, or as a first choice without justification and the results of culture and susceptibility testing. | D24: 1 | E24: 1 | F24: 1
A25: Alternatives to antimicrobials | B25: Essential | C25: Alternatives to antimicrobials are utilised as part of good husbandry and management practices. | E25: 1 | G25: 1
B26: Desirable | C26: The organisation has animal health/biosecurity management/ or infection control plans that outline diagnostic and treatment practices to minimise the use of antimicrobials. | E26: 1 | F26: 1 | G26: 1
B27: Desirable | C27: Documented evidence demonstrates that the introduction of replacements has reduced the need for antimicrobial use, without compromising animal health and welfare | G27: 1
A28: Vaccines | B28: Essential | C28: Veterinary vaccines for key diseases are preferentially used to minimise disease and reduce the need for antimicrobials. | G28: 1
A29: Refinement of administering behaviour | B29: Essential | C29: The organisation refines mass or indiscriminate antimicrobial administration based on modifications to practice, housing, husbandry, management, infection control, training, and other systems | D29: 1 | E29: 1 | F29: 1 | G29: 1
B30: Desirable | C30: Refinements to antimicrobial administration are based on prescribing outcomes and results. | E30: 1 | G30: 1
A31: Unused or expired antimicrobials | B31: Essential | C31: Compliance with safe disposal of unused or expired antibiotics and waste products is verified with those administering them (e.g., prescribing veterinarian, feed mill, farmer, carer etc.).
B32: Desirable | C32: Unused or expired antimicrobials are appropriately disposed of following Australian legislative requirements for waste disposal of veterinary chemicals. | D32: 1 | E32: 1
B33: Desirable | C33: Any antimicrobials given to animals are administered safely and appropriately to minimise the risk of residues entering the environment. | D33: 1
A34: Diagnostic testing | B34: Essential | C34: Microbiological culture and/or other diagnostic tools are utilised to guide clinical decisions regarding the use of antibiotics. | E34: 1 | F34: 1 | G34: 1
B35: Desirable | C35: Results of susceptibility testing influence the selection of antimicrobials. | E35: 1 | F35: 1
B36: Desirable | C36: Data and information from point-of-care (penside) and laboratory tests directly inform practice changes and early warnings at the sector level, facilitating improvements in sector-level antimicrobial prescribing and management practices. | G36: 1
B37: Desirable | C37: Collaborative AMR/susceptibility data sharing among stakeholders within the sector enhances these efforts. | G37: 1
A38: Surveillance | B38: Essential | C38: Antimicrobial resistance surveillance is conducted, reviewed and the results are shared with the prescriber, supervising veterinarian, and other relevant parties. | D38: 1 | G38: 1
B39: Desirable | C39: AMR surveillance informs the progress and outcomes of the AMS program and the objectives of the AMS plan. | D39: 1 | E39: 1
B40: Desirable | C40: Documentation related to surveillance is reviewed and audited, with the AMR surveillance results publicly available.
...

Sheet Lloyd Page
A1: Principal elements in the establishment of an effective veterinary AMS framework | B1: https://journals.asm.org/doi/10.1128/microbiolspec.arba-0023-2017 | C1: Animal AMS Assessment framework reference
A2: Core elements | B2: 1. Generate enthusiasm, commitment, and support among senior management | C2: ='Animal AMS Framework'!C5 -> The AMS program has senior leadership designated as point(s) of contact or champion(s) to ensure adequate resources and support for achieving program outcomes.
B3: 2. Identify resistance patterns and antimicrobial use in treated animals | C3: ='Animal AMS Framework'!C38 -> Antimicrobial resistance surveillance is conducted, reviewed and the results are shared with the prescriber, supervising veterinarian, and other relevant parties. | D3: ='Animal AMS Framework'!C12 -> The organisation measures the quantity of antimicrobials prescribed, dispensed, and purchased at the farm/clinic/facility level.
B4: 3. Select priority areas and devise intervention plans | C4: ='Animal AMS Framework'!C45 -> The group or designated individual that is responsible for AMS conducts a regular (e.g. annual) evaluation of program performance, identifies areas for improvement, and implements actions to enhance the appropriateness of antimicrobial prescribing and use.
B5: 4. Determine how progress and success will be measured | C5: ='Animal AMS Framework'!C45 -> The group or designated individual that is responsible for AMS conducts a regular (e.g. annual) evaluation of program performance, identifies areas for improvement, and implements actions to enhance the appropriateness of antimicrobial prescribing and use.
B6: 5. Implement at least one readily achievable policy or practice of improved antimicrobial use to allow the group to experience early success | C6: ='Animal AMS Framework'!C6 -> A group or designated individual is responsible for implementing and overseeing the AMS plan, demonstrating ownership and influencing outcomes. | D6: ='Animal AMS Framework'!C7 -> A dedicated individual or AMS team regularly assesses the effectiveness of the AMS program, receiving support from all levels (e.g., senior management, veterinarians, staff working in practices, on farms, and carers for animals and wildlife). | E6: ='Animal AMS Framework'!C8 -> The dedicated individual or AMS team meets regularly (e.g., every six months) with the executive/leadership team to report on the AMS plan and discuss stewardship outcomes, activities, and resource needs.
B7: 6. Implement quantitative and qualitative measurement of prescribing practice, including self-audit, if appropriate | C7: ='Animal AMS Framework'!C23 -> Verification of compliance with Australian legislation and policies regarding the prescribing process is conducted through accredited third-party or verified self-assessment. | D7: ='Animal AMS Framework'!C49 -> Improvements in appropriateness of antimicrobial usage are made based on documented results of the assessment. | E7: ='Animal AMS Framework'!C17 -> An audited process is in place to evaluate the proportion of prescribing that aligns with the guidelines, and any variations documented along with the reasons.
B8: 7. Customize the AMS plan to serve the special needs of each practice or other operation | C8: ='Animal AMS Framework'!C4 -> The leadership team, person in charge or executive ensures that AMS activities are integrated into quality improvement efforts and aim to achieve high standards of animal health and welfare outcomes.
B9: 8. Provide educational resources and access to expertise on optimizing antimicrobial prescribing | C9: ='Animal AMS Framework'!C10 -> Training on the responsible use of antimicrobials is conducted at least annually for the AMS team and animal health staff and used to enhance the knowledge of others through codes of practice, best practice manuals, and/or training.
A10: AMS goals | B10: 1. Ensure that each patient receives the most appropriate treatment: the right drug, at the right time, at the right dose for the right duration by the right route of delivery (5 rights) | C10: ='Animal AMS Framework'!C15 -> National prescribing guidelines/decision trees and veterinary expertise are used to guide antibiotic selection, dosage and route of administration. | D10: ='Animal AMS Framework'!C19 -> improvements in appropriateness of antimicrobial usage are made based on documented results of the assessment.
B11: 2. Eliminate antimicrobial overuse and misuse | C11: ='Animal AMS Framework'!C29 -> The organisation refines mass or indiscriminate antimicrobial administration based on modifications to practice, housing, husbandry, management, infection control, training, and other systems | D11: ='Animal AMS Framework'!C13 -> The organisation sets specific targets to minimise the unnecessary use of highly important antimicrobials, prioritising alternatives and exhausting these options first.
B12: 3. Minimize the selection, maintenance, and dissemination of antimicrobial resistance | C12: ='Animal AMS Framework'!C20 -> A system is in place to ensure that antimicrobials given to animals are administered safely and appropriately, minimising the risk of chemical residues or physical hazards (e.g. antibiotic packaging, needles) entering the food supply chain or environment and reducing the potential for antimicrobial resistance development. | D12: ='Animal AMS Framework'!C32 -> Unused or expired antimicrobials are appropriately disposed of following Australian legislative requirements for waste disposal of veterinary chemicals. | E12: ='Animal AMS Framework'!C33 -> Any antimicrobials given to animals are administered safely and appropriately to minimise the risk of residues entering the environment.
A13: Key strategies | B13: 1. Implement clinical guidelines that take into account local microbiology and susceptibility patterns | C13: ='Animal AMS Framework'!C38 -> Antimicrobial resistance surveillance is conducted, reviewed and the results are shared with the prescriber, supervising veterinarian, and other relevant parties. | D13: ='Animal AMS Framework'!C39 -> AMR surveillance informs the progress and outcomes of the AMS program and the objectives of the AMS plan.
B14: 2. Establish formulary restriction and approval systems that restrict later generation and critically important antimicrobials to patients where clinical need is justified | C14: ='Animal AMS Framework'!C24 -> Highly important antibiotics used in human medicine are not used for growth promotion, feed efficiency, weight gain, or as a first choice without justification and the results of culture and susceptibility testing.
B15: 3. Review antimicrobial prescribing with intervention and direct feedback to the prescriber | C15: ='Animal AMS Framework'!C45 -> The group or designated individual that is responsible for AMS conducts a regular (e.g. annual) evaluation of program performance, identifies areas for improvement, and implements actions to enhance the appropriateness of antimicrobial prescribing and use. | D15: ='Animal AMS Framework'!C22 -> Regular checks are conducted with the feed mill, farmer, carer or client to ensure compliance with the antimicrobial prescription. | E15: ='Animal AMS Framework'!C38 -> Antimicrobial resistance surveillance is conducted, reviewed and the results are shared with the prescriber, supervising veterinarian, and other relevant parties.
B16: 4. Ensure that the clinical microbiology laboratory uses selective reporting of susceptibility results that is consistent with clinical guidelines | C16: Relates to the laboratory, not those overseeing AMS
A17: Success factors | B17: 1. Presence of a motivated team leader | C17: ='Animal AMS Framework'!C3 -> The leadership team, the person in charge or executive signs and supports a documented AMS or animal health plan/policy statement. | D17: ='Animal AMS Framework'!C4 -> The leadership team, person in charge or executive ensures that AMS activities are integrated into quality improvement efforts and aim to achieve high standards of animal health and welfare outcomes. | E17: ='Animal AMS Framework'!C5 -> The AMS program has senior leadership designated as point(s) of contact or champion(s) to ensure adequate resources and support for achieving program outcomes.
B18: 2. Motivated team sharing responsibility for GSP | C18: ='Animal AMS Framework'!C6 -> A group or designated individual is responsible for implementing and overseeing the AMS plan, demonstrating ownership and influencing outcomes.
B19: 3. AMS program tailored to local context | C19: ='Animal AMS Framework'!C3 -> The leadership team, the person in charge or executive signs and supports a documented AMS or animal health plan/policy statement.
B20: 4. Credibility established by demonstrating early success | C20: Not measurable or actionable as 'credibility' is dependent on the perception of those outside the AMS team making judgements regarding success

Sheet Granick
A1: https://pubmed.ncbi.nlm.nih.gov/39270725/ | B1: Animal AMS Assessment framework reference
A2: Form an AS committee | B2: ='Animal AMS Framework'!C6 -> A group or designated individual is responsible for implementing and overseeing the AMS plan, demonstrating ownership and influencing outcomes.
A3: Identify AS Champion(s) | B3: ='Animal AMS Framework'!C6 -> A group or designated individual is responsible for implementing and overseeing the AMS plan, demonstrating ownership and influencing outcomes.
A4: Define AS responsibilities for AS Champion(s) and other staff | B4: ='Animal AMS Framework'!C6 -> A group or designated individual is responsible for implementing and overseeing the AMS plan, demonstrating ownership and influencing outcomes.
A5: Publicly announce commitment to AS to clients, staff, veterinarians, and other partners | B5: ='Animal AMS Framework'!C47 -> Regular reporting of AMS assessments and progress is provided to leadership/executive levels, and this information is publicly available.
A6: Actively promote responsible AU to clients and public | B6: context-specific
A7: Define (and redefine) hospital AS priorities | B7: ='Animal AMS Framework'!C49 -> Improvements in appropriateness of antimicrobial usage are made based on documented results of the assessment. | C7: ='Animal AMS Framework'!C7 -> A dedicated individual or AMS team regularly assesses the effectiveness of the AMS program, receiving support from all levels (e.g., senior management, veterinarians, staff working in practices, on farms, and carers for animals and wildlife).
A8: Draft AS policies and implementation plans | B8: ='Animal AMS Framework'!C3 -> The leadership team, the person in charge or executive signs and supports a documented AMS or animal health plan/policy statement. | C8: ='Animal AMS Framework'!C6 -> A group or designated individual is responsible for implementing and overseeing the AMS plan, demonstrating ownership and influencing outcomes.
A9: Establish institutional support (e.g., financial, time) | B9: ='Animal AMS Framework'!C5 -> The AMS program has senior leadership designated as point(s) of contact or champion(s) to ensure adequate resources and support for achieving program outcomes.
A10: Educate clients on the importance of preventative care | B10: context-specific
A11: Design and implement, and then monitor, regularly review, and update detailed written infection prevention and control plans | B11: ='Animal AMS Framework'!C26 -> The organisation has animal health/biosecurity management/ or infection control plans that outline diagnostic and treatment practices to minimise the use of antimicrobials.
A12: Develop prevention protocols for high-priority conditions | B12: ='Animal AMS Framework'!C26 -> The organisation has animal health/biosecurity management/ or infection control plans that outline diagnostic and treatment practices to minimise the use of antimicrobials.
A13: Identify barriers to adopting infection prevention strategies | B13: ='Animal AMS Framework'!C45 -> The group or designated individual that is responsible for AMS conducts a regular (e.g. annual) evaluation of program performance, identifies areas for improvement, and implements actions to enhance the appropriateness of antimicrobial prescribing and use.
A14: Make infection prevention and control resources and supplies readily available | B14: context-specific
A15: Provide clinical guidance for responsible AU, including utilization of consensus-driven guidelines | B15: ='Animal AMS Framework'!C9 -> Individuals who administer and/or oversee the use of antimicrobial products within the organisation engage in learning activities relevant to AMS and enhance the knowledge of others. | C15: ='Animal AMS Framework'!C15 -> National prescribing guidelines/decision trees and veterinary expertise are used to guide antibiotic selection, dosage and route of administration.
A16: Develop facility-specific prescribing protocols based on published guidelines | B16: ='Animal AMS Framework'!C15 -> National prescribing guidelines/decision trees and veterinary expertise are used to guide antibiotic selection, dosage and route of administration. | C16: ='Animal AMS Framework'!C19 -> improvements in appropriateness of antimicrobial usage are made based on documented results of the assessment.
A17: Have available AU consultations with specialist (e.g., microbiologist, pharmacist, other)
A18: Develop protocols for use of clinical diagnostics (e.g., recommendation of only promoting urine cultures after urinalysis for patients with clinical signs) | B18: ='Animal AMS Framework'!C34 -> Microbiological culture and/or other diagnostic tools are utilised to guide clinical decisions regarding the use of antibiotics.
A19: Review available hospital antimicrobials, and identify opportunities for formulary-level AS action (e.g., prescribing tiers, formulary restriction) | B19: ='Animal AMS Framework'!C24 -> Highly important antibiotics used in human medicine are not used for growth promotion, feed efficiency, weight gain, or as a first choice without justification and the results of culture and susceptibility testing.
A20: Pre-authorization requirement for certain antibiotics | B20: ='Animal AMS Framework'!C18 -> Antibiotics are not administered to animals unless prescribed by a registered veterinarian.
A21: Implement workflow interventions to reduce unnecessary AU prescribing (e.g., AU time out, prescribing algorithms, decision support for drug selection in medical records) | B21: ='Animal AMS Framework'!C29 -> The organisation refines mass or indiscriminate antimicrobial administration based on modifications to practice, housing, husbandry, management, infection control, training, and other systems | C21: ='Animal AMS Framework'!C30 -> Refinements to antimicrobial administration are based on prescribing outcomes and results. | D21: ='Animal AMS Framework'!C13 -> The organisation sets specific targets to minimise the unnecessary use of highly important antimicrobials, prioritising alternatives and exhausting these options first.
A22: Promote use of alternative case management and therapeutic options to reduce the need for systemic antibiotics when appropriate | B22: ='Animal AMS Framework'!C25 -> Alternatives to antimicrobials are utilised as part of good husbandry and management practices. | C22: ='Animal AMS Framework'!C26 -> The organisation has animal health/biosecurity management/ or infection control plans that outline diagnostic and treatment practices to minimise the use of antimicrobials.
A23: Record the indication(s) for antimicrobials in patient medical records and client communications | B23: ='Animal AMS Framework'!C41 -> Treatment records are documented with details regarding the dose rate, planned duration, indication for antimicrobial treatment, and any adverse reactions or decline in efficacy of a previously effective antimicrobial.
A24: Assess compliance with AS actions/programmatic initiatives | B24: ='Animal AMS Framework'!C45 -> The group or designated individual that is responsible for AMS conducts a regular (e.g. annual) evaluation of program performance, identifies areas for improvement, and implements actions to enhance the appropriateness of antimicrobial prescribing and use.
A25: Critically assess the need for prophylactic AU, as well as selection and duration | B25: ='Animal AMS Framework'!C29 -> The organisation refines mass or indiscriminate antimicrobial administration based on modifications to practice, housing, husbandry, management, infection control, training, and other systems | C25: ='Animal AMS Framework'!C14 -> Antimicrobial use data is used to identify areas for improvement in the AMS program and drives action to enhance the appropriateness of antimicrobial use.
A26: Track overall AU | B26: ='Animal AMS Framework'!C12 -> The organisation measures the quantity of antimicrobials prescribed, dispensed, and purchased at the farm/clinic/facility level.
A27: Report overall AU | B27: ='Animal AMS Framework'!C8 -> The dedicated individual or AMS team meets regularly (e.g., every six months) with the executive/leadership team to report on the AMS plan and discuss stewardship outcomes, activities, and resource needs.
A28: Track AU prescribing for priority conditions (e.g., lower urinary tract infections, community acquired respiratory tract disease) | B28: ='Animal AMS Framework'!C14 -> Antimicrobial use data is used to identify areas for improvement in the AMS program and drives action to enhance the appropriateness of antimicrobial use. | C28: ='Animal AMS Framework'!C19 -> improvements in appropriateness of antimicrobial usage are made based on documented results of the assessment. | D28: ='Animal AMS Framework'!C26 -> The organisation has animal health/biosecurity management/ or infection control plans that outline diagnostic and treatment practices to minimise the use of antimicrobials.
A29: Report AU prescribing for priority conditions (e.g., to hospital leadership, staff) | B29: ='Animal AMS Framework'!C8 -> The dedicated individual or AMS team meets regularly (e.g., every six months) with the executive/leadership team to report on the AMS plan and discuss stewardship outcomes, activities, and resource needs.
A30: Review appropriateness of prescribing for priority conditions (e.g., with individual clinicians, at AS committee meetings) | B30: ='Animal AMS Framework'!C14 -> Antimicrobial use data is used to identify areas for improvement in the AMS program and drives action to enhance the appropriateness of antimicrobial use. | C30: ='Animal AMS Framework'!C30 -> Refinements to antimicrobial administration are based on prescribing outcomes and results.
A31: Document AMR trends | B31: ='Animal AMS Framework'!C39 -> AMR surveillance informs the progress and outcomes of the AMS program and the objectives of the AMS plan.
A32: Engage with veterinary diagnostic laboratories to provide facility or regional antibiograms
A33: Assess how often samples are submitted for culture and susceptibility testing | B33: ='Animal AMS Framework'!C35 -> Results of susceptibility testing influence the selection of antimicrobials.
A34: Communicate with pet owners about AMR and other potential harms of AU (e.g., client handouts, waiting room posters) | B34: context-specific
A35: Provide information to clients about proper medication disposal | B35: ='Animal AMS Framework'!C32 -> Unused or expired antimicrobials are appropriately disposed of following Australian legislative requirements for waste disposal of veterinary chemicals.
A36: Provide all-staff training on hospital AS practice and policy | B36: ='Animal AMS Framework'!C9 -> Individuals who administer and/or oversee the use of antimicrobial products within the organisation engage in learning activities relevant to AMS and enhance the knowledge of others.
A37: Make continuing education related to AS available to hospital personnel | B37: ='Animal AMS Framework'!C9 -> Individuals who administer and/or oversee the use of antimicrobial products within the organisation engage in learning activities relevant to AMS and enhance the knowledge of others. | C37: ='Animal AMS Framework'!C10 -> Training on the responsible use of antimicrobials is conducted at least annually for the AMS team and animal health staff and used to enhance the knowledge of others through codes of practice, best practice manuals, and/or training.
A40: reporting Au not clear what that means, but this was discussed at length in the AMS Practise Group who would consider AMU reporting to be part of the overall AMS plan/report
A41: the AMS framework captures external obligations beyond communications e.g. enviro, waste, sharing AMR data, compliance with prescribing
A42: specialist consultations, not something they'd consider day to day

Sheet Currie
A1: https://bvajournals.onlinelibrary.wiley.com/doi/10.1136/vr.104639 (Consolidated list from tables 2 - 6) | B1: Animal AMS Assessment framework reference
A2: Consistently applying optimal prescribing practice (eg, correct dosing of most appropriate antibiotic only when essential and clinically indicated for identified infection; avoiding broad-spectrum antibiotics; reducing prophylactic use) | B2: ='Animal AMS Framework'!C18 -> Antibiotics are not administered to animals unless prescribed by a registered veterinarian. | C2: ='Animal AMS Framework'!C24 -> Highly important antibiotics used in human medicine are not used for growth promotion, feed efficiency, weight gain, or as a first choice without justification and the results of culture and susceptibility testing. | D2: ='Animal AMS Framework'!C29 -> The organisation refines mass or indiscriminate antimicrobial administration based on modifications to practice, housing, husbandry, management, infection control, training, and other systems | E2: ='Animal AMS Framework'!C34 -> Microbiological culture and/or other diagnostic tools are utilised to guide clinical decisions regarding the use of antibiotics.
A3: Effective communication between veterinarians and clients around appropriate use of antimicrobials | B3: ='Animal AMS Framework'!C9 -> Individuals who administer and/or oversee the use of antimicrobial products within the organisation engage in learning activities relevant to AMS and enhance the knowledge of others.
A4: Accessible veterinary training and Continuing Professional Development (eg, free, on-line provision) | B4: ='Animal AMS Framework'!C9 -> Individuals who administer and/or oversee the use of antimicrobial products within the organisation engage in learning activities relevant to AMS and enhance the knowledge of others. | C4: ='Animal AMS Framework'!C10 -> Training on the responsible use of antimicrobials is conducted at least annually for the AMS team and animal health staff and used to enhance the knowledge of others through codes of practice, best practice manuals, and/or training.
A5: Working in a culture of adherence to recognised professional guidelines in practice-based teams | B5: ='Animal AMS Framework'!C15 -> National prescribing guidelines/decision trees and veterinary expertise are used to guide antibiotic selection, dosage and route of administration. | C5: ='Animal AMS Framework'!C6 -> A group or designated individual is responsible for implementing and overseeing the AMS plan, demonstrating ownership and influencing outcomes.
A6: Good infection control processes in use in the practice setting | B6: ='Animal AMS Framework'!C26 -> The organisation has animal health/biosecurity management/ or infection control plans that outline diagnostic and treatment practices to minimise the use of antimicrobials.
A7: Greater use by veterinarians of available diagnostic testing for culture and sensitivity | B7: ='Animal AMS Framework'!C34 -> Microbiological culture and/or other diagnostic tools are utilised to guide clinical decisions regarding the use of antibiotics. | C7: ='Animal AMS Framework'!C35 -> Results of susceptibility testing influence the selection of antimicrobials.
A8: The commercial context of veterinary practice (ie, veterinarian is reliant on continued pet owner custom) may impede effective antimicrobial stewardship | B8: context-specific
A9: Professional regulation of prescribing practice (RCVS and PSS) | B9: context-specific
A10: Clear national guidelines and decision support tools for veterinary practice | B10: ='Animal AMS Framework'!C15 -> National prescribing guidelines/decision trees and veterinary expertise are used to guide antibiotic selection, dosage and route of administration.
A11: Practice-level antimicrobial policies in place | B11: ='Animal AMS Framework'!C3 -> The leadership team, the person in charge or executive signs and supports a documented AMS or animal health plan/policy statement.
A12: Local (or national) clinical audits of antimicrobial usage with feedback to veterinarians | B12: ='Animal AMS Framework'!C23 -> Verification of compliance with Australian legislation and policies regarding the prescribing process is conducted through accredited third-party or verified self-assessment.
A13: Promote the use of diagnostic sensitivity testing | B13: ='Animal AMS Framework'!C35 -> Results of susceptibility testing influence the selection of antimicrobials.
A14: Help for veterinarians to manage client expectations | B14: context-specific
A15: Mass media campaign approach to client and public education on AMR in pets | B15: outside control of those overseeing AMS daily
A16: A trusting relationship where the client accepts advice not to use antimicrobials | B16: ='Animal AMS Framework'!C21 -> Veterinarians establish bona fide veterinarian-client-patient relationships and determine animal health needs before supplying or using antimicrobials, as required by Australian government legislation.
A20: experts from UK-based veterinary policymakers, university academics and leaders of professional bodies.

Sheet AVMA
A1: https://www.avma.org/resources-tools/avma-policies/antimicrobial-stewardship-definition-and-core-principles | B1: Animal AMS Assessment framework reference
A2: Engage all practice members and relevant stakeholders in the stewardship effort. | B2: context-specific
A3: Develop stewardship plans that incorporate dedication to and accountability for disease prevention and that also optimize the prescribing, administration, and oversight of antimicrobial drugs. | B3: ='Animal AMS Framework'!C3 -> The leadership team, the person in charge or executive signs and supports a documented AMS or animal health plan/policy statement. | C3: ='Animal AMS Framework'!C4 -> The leadership team, person in charge or executive ensures that AMS activities are integrated into quality improvement efforts and aim to achieve high standards of animal health and welfare outcomes. | D3: ='Animal AMS Framework'!C6 -> A group or designated individual is responsible for implementing and overseeing the AMS plan, demonstrating ownership and influencing outcomes.
A4: Identify high-priority conditions that are commonly treated with antimicrobial drugs on which to focus stewardship efforts. | B4: ='Animal AMS Framework'!C12 -> The organisation measures the quantity of antimicrobials prescribed, dispensed, and purchased at the farm/clinic/facility level. | C4: ='Animal AMS Framework'!C14 -> Antimicrobial use data is used to identify areas for improvement in the AMS program and drives action to enhance the appropriateness of antimicrobial use.
A5: Demonstrate commitment to systematically assessing the outcomes of antimicrobial drug therapy. | B5: ='Animal AMS Framework'!C36 -> Data and information from point-of-care (penside) and laboratory tests directly inform practice changes and early warnings at the sector level, facilitating improvements in sector-level antimicrobial prescribing and management practices. | C5: ='Animal AMS Framework'!C37 -> Collaborative AMR/susceptibility data sharing among stakeholders within the sector enhances these efforts.
A6: Identify one or more individuals to lead the stewardship plan and provide accountability. | B6: ='Animal AMS Framework'!C6 -> A group or designated individual is responsible for implementing and overseeing the AMS plan, demonstrating ownership and influencing outcomes.
A7: Identify barriers to improving disease prevention. | B7: ='Animal AMS Framework'!C26 -> The organisation has animal health/biosecurity management/ or infection control plans that outline diagnostic and treatment practices to minimise the use of antimicrobials. | C7: ='Animal AMS Framework'!C28 -> Veterinary vaccines for key diseases are preferentially used to minimise disease and reduce the need for antimicrobials.
A8: Work with clients to adopt preventive and management strategies to minimize the need for antimicrobial drugs. These strategies include animal husbandry and hygiene, biosecurity and infection control, nutrition, and vaccination programs. | B8: ='Animal AMS Framework'!C27 -> Documented evidence demonstrates that the introduction of replacements has reduced the need for antimicrobial use, without compromising animal health and welfare | C8: ='Animal AMS Framework'!C29 -> The organisation refines mass or indiscriminate antimicrobial administration based on modifications to practice, housing, husbandry, management, infection control, training, and other systems | D8: ='Animal AMS Framework'!C25 -> Alternatives to antimicrobials are utilised as part of good husbandry and management practices. | E8: ='Animal AMS Framework'!C44 -> Animal health plans incorporate long-term AMS objectives and strategies, which are regularly reviewed and updated based on feedback and interventions, aimed at enhancing animal health and welfare. | F8: ='Animal AMS Framework'!C48 -> The organisation regularly assesses processes and/or methods that reduce the need for antimicrobials, such as biosecurity, infection, prevention and control measures.
A9: Consider alternatives to antimicrobial drugs. | B9: ='Animal AMS Framework'!C25 -> Alternatives to antimicrobials are utilised as part of good husbandry and management practices.
A10: Identify barriers to appropriate antimicrobial prescribing and usage. | B10: ='Animal AMS Framework'!C45 -> The group or designated individual that is responsible for AMS conducts a regular (e.g. annual) evaluation of program performance, identifies areas for improvement, and implements actions to enhance the appropriateness of antimicrobial prescribing and use. | C10: ='Animal AMS Framework'!C46 -> Regular auditing and evaluation of the AMS program is conducted, with documented evidence of progress and areas for improvement.
A11: Use an evidence-based approach for making a diagnosis and determining whether an antimicrobial drug is indicated. | B11: ='Animal AMS Framework'!C34 -> Microbiological culture and/or other diagnostic tools are utilised to guide clinical decisions regarding the use of antibiotics.
A12: Make an informed selection of an appropriate antimicrobial drug and regimen. | B12: ='Animal AMS Framework'!C15 -> National prescribing guidelines/decision trees and veterinary expertise are used to guide antibiotic selection, dosage and route of administration. | C12: ='Animal AMS Framework'!C18 -> Antibiotics are not administered to animals unless prescribed by a registered veterinarian.
A13: Refer to relevant veterinary medical guidelines for judicious therapeutic use. | B13: ='Animal AMS Framework'!C15 -> National prescribing guidelines/decision trees and veterinary expertise are used to guide antibiotic selection, dosage and route of administration.
A14: Assess outcomes of antimicrobial use. | B14: ='Animal AMS Framework'!C19 -> improvements in appropriateness of antimicrobial usage are made based on documented results of the assessment. | C14: ='Animal AMS Framework'!C30 -> Refinements to antimicrobial administration are based on prescribing outcomes and results. | D14: ='Animal AMS Framework'!C43 -> Outcomes of therapy are documented, including the percentage of success, relapse, retreatment, animals that died, and antimicrobial wastage.
A15: Encourage development of a program for the evaluation of antimicrobial drug prescribing at the veterinary-practice or aggregated levels. | B15: ='Animal AMS Framework'!C12 -> The organisation measures the quantity of antimicrobials prescribed, dispensed, and purchased at the farm/clinic/facility level. | C15: ='Animal AMS Framework'!C45 -> The group or designated individual that is responsible for AMS conducts a regular (e.g. annual) evaluation of program performance, identifies areas for improvement, and implements actions to enhance the appropriateness of antimicrobial prescribing and use.
A16: Ensure that feedback is provided to veterinarians. | B16: ='Animal AMS Framework'!C38 -> Antimicrobial resistance surveillance is conducted, reviewed and the results are shared with the prescriber, supervising veterinarian, and other relevant parties. | C16: ='Animal AMS Framework'!C22 -> Regular checks are conducted with the feed mill, farmer, carer or client to ensure compliance with the antimicrobial prescription.
A17: Support analyzing and sharing of antimicrobial drug use data while preserving veterinarian-client confidentiality. | B17: ='Animal AMS Framework'!C47 -> Regular reporting of AMS assessments and progress is provided to leadership/executive levels, and this information is publicly available. | C17: ='Animal AMS Framework'!C13 -> The organisation sets specific targets to minimise the unnecessary use of highly important antimicrobials, prioritising alternatives and exhausting these options first. | D17: ='Animal AMS Framework'!C14 -> Antimicrobial use data is used to identify areas for improvement in the AMS program and drives action to enhance the appropriateness of antimicrobial use.
A18: Engage clients to identify barriers to implementation of stewardship programs and to evaluate antimicrobial storage, administration, and other use practices. | B18: context-specific; though areas in Animal AMS Framework cover these elements broadly
A19: Make resources available and encourage the development of expertise in antimicrobial stewardship. | B19: ='Animal AMS Framework'!C9 -> Individuals who administer and/or oversee the use of antimicrobial products within the organisation engage in learning activities relevant to AMS and enhance the knowledge of others. | C19: ='Animal AMS Framework'!C10 -> Training on the responsible use of antimicrobials is conducted at least annually for the AMS team and animal health staff and used to enhance the knowledge of others through codes of practice, best practice manuals, and/or training.
A20: Keep up-to-date on strategies for disease prevention, use of antimicrobial alternatives, and selecting and using antimicrobial drugs. | B20: ='Animal AMS Framework'!C9 -> Individuals who administer and/or oversee the use of antimicrobial products within the organisation engage in learning activities relevant to AMS and enhance the knowledge of others. | C20: ='Animal AMS Framework'!C10 -> Training on the responsible use of antimicrobials is conducted at least annually for the AMS team and animal health staff and used to enhance the knowledge of others through codes of practice, best practice manuals, and/or training. | D20: ='Animal AMS Framework'!C48 -> The organisation regularly assesses processes and/or methods that reduce the need for antimicrobials, such as biosecurity, infection, prevention and control measures.
A21: Critically appraise and then implement appropriate existing clinical guidelines for antimicrobial use. | B21: ='Animal AMS Framework'!C15 -> National prescribing guidelines/decision trees and veterinary expertise are used to guide antibiotic selection, dosage and route of administration.
A22: Provide client education on antimicrobial stewardship, including conditions when antimicrobial drugs are not needed. | B22: context-specific
A23: Support research on antimicrobial drug use and resistance.
A27: the framework splits out specific things instead of grouping them. More practical
A28: could've include research support given this fits with 'benefits to broader industry' but not a day-to-day AMS task consideration which may be why it wasn’t considered
A29: makes sense that those with a practical focus would develop something that was highly practically focused in terms of areas covered but also the structure of the output
